BEGIN:VCALENDAR
PRODID:AUCD
VERSION:2.0
METHOD:PUBLISH
BEGIN:VEVENT
DTSTART:20260424T180000Z
DTEND:20260424T190000Z
DTSTAMP:20260423T163350Z
UID:e95850be-59ed-4a65-982f-03c1eb5c8d95
CREATED:20260423T163350Z
X-ALT-DESC;FMTTYPE=text/html:
DESCRIPTION:
LAST-MODIFIED:20260423T163350Z
LOCATION:Zoom
SEQUENCE:0
STATUS:CONFIRMED
SUMMARY:April CORE Speaker Series
TRANSP:OPAQUE
END:VEVENT
END:VCALENDAR
