BEGIN:VCALENDAR
PRODID:AUCD
VERSION:2.0
METHOD:PUBLISH
BEGIN:VEVENT
DTSTART:20260512T000000Z
DTEND:20260514T000000Z
DTSTAMP:20260425T134800Z
UID:1b9573a5-836a-4379-9158-e67fd87ef365
CREATED:20260425T134800Z
X-ALT-DESC;FMTTYPE=text/html:
DESCRIPTION:
LAST-MODIFIED:20260425T134800Z
LOCATION:Virtual
SEQUENCE:0
STATUS:CONFIRMED
SUMMARY: 2026 START National Training Institute
TRANSP:OPAQUE
END:VEVENT
END:VCALENDAR
