BEGIN:VCALENDAR
PRODID:AUCD
VERSION:2.0
METHOD:PUBLISH
BEGIN:VEVENT
DTSTART:20260129T210000Z
DTEND:20260129T223000Z
DTSTAMP:20260425T153818Z
UID:93322620-7ef6-4529-848d-43cbd188d1b6
CREATED:20260425T153818Z
X-ALT-DESC;FMTTYPE=text/html:
DESCRIPTION:
LAST-MODIFIED:20260425T153818Z
LOCATION:Webinar
SEQUENCE:0
STATUS:CONFIRMED
SUMMARY:2026 AUCD Leadership Academy Informational Webinar 
TRANSP:OPAQUE
END:VEVENT
END:VCALENDAR
