BEGIN:VCALENDAR
PRODID:AUCD
VERSION:2.0
METHOD:PUBLISH
BEGIN:VEVENT
DTSTART:20260505T000000Z
DTEND:20260507T000000Z
DTSTAMP:20260424T134651Z
UID:c9762c66-709e-4974-af44-490d55d67e1c
CREATED:20260424T134651Z
X-ALT-DESC;FMTTYPE=text/html:
DESCRIPTION:
LAST-MODIFIED:20260424T134651Z
LOCATION:Kansas City, MO
SEQUENCE:0
STATUS:CONFIRMED
SUMMARY:Charting the LifeCourse Showcase 2026
TRANSP:OPAQUE
END:VEVENT
END:VCALENDAR
