BEGIN:VCALENDAR
PRODID:AUCD
VERSION:2.0
METHOD:PUBLISH
BEGIN:VEVENT
DTSTART:20251028T180000Z
DTEND:20251028T190000Z
DTSTAMP:20260419T143720Z
UID:9ff19200-075c-462e-8a59-518502b03069
CREATED:20260419T143720Z
X-ALT-DESC;FMTTYPE=text/html:
DESCRIPTION:
LAST-MODIFIED:20260419T143720Z
LOCATION:Zoom
SEQUENCE:0
STATUS:CONFIRMED
SUMMARY:Honoring the Contributions of Americans with Disabilities to the Workforce and National Progress through UCEDDs
TRANSP:OPAQUE
END:VEVENT
END:VCALENDAR
