BEGIN:VCALENDAR
PRODID:AUCD
VERSION:2.0
METHOD:PUBLISH
BEGIN:VEVENT
DTSTART:20250415T000000Z
DTEND:20250416T000000Z
DTSTAMP:20260424T162619Z
UID:11e6d2b9-795c-49bf-a21c-72a987d800da
CREATED:20260424T162619Z
X-ALT-DESC;FMTTYPE=text/html:<p>2025 is the 40th anniversary of the Pacific Rim International Conference on Disability and Diversity. We invite you to Honolulu on April 15th and 16th to celebrate. Come join us both to honor the past and to consider the future of the global movement we create together. Let?s all recognize our achievements, share our struggles, and develop strategies for the work that remains. See you in Honolulu in 2025!</p>
DESCRIPTION:<p>2025 is the 40th anniversary of the Pacific Rim International Conference on Disability and Diversity. We invite you to Honolulu on April 15th and 16th to celebrate. Come join us both to honor the past and to consider the future of the global movement we create together. Let?s all recognize our achievements, share our struggles, and develop strategies for the work that remains. See you in Honolulu in 2025!</p>
LAST-MODIFIED:20260424T162619Z
LOCATION:Honolulu, HI
SEQUENCE:0
STATUS:CONFIRMED
SUMMARY: 40th Annual Pacific Rim International Conference on Disability and Diversity: By Us and For Us: Legacy and Future of Our Movement
TRANSP:OPAQUE
END:VEVENT
END:VCALENDAR
