BEGIN:VCALENDAR
PRODID:AUCD
VERSION:2.0
METHOD:PUBLISH
BEGIN:VEVENT
DTSTART:20241017T190000Z
DTEND:20241017T200000Z
DTSTAMP:20260422T163442Z
UID:7348910d-2423-4f43-bb96-458568222ba2
CREATED:20260422T163442Z
X-ALT-DESC;FMTTYPE=text/html:<p>We will be discussing ways AI can be leveraged as an accessibility tool, with a focus on tools like ChatGPT and Grammarly. We will share specific examples of how our invited contributors have used AI to assist with executive functioning and improving communication accessibility. Together, we will examine how AI can empower individuals with ADHD, autism, and other disabilities in their daily tasks.</p>
DESCRIPTION:<p>We will be discussing ways AI can be leveraged as an accessibility tool, with a focus on tools like ChatGPT and Grammarly. We will share specific examples of how our invited contributors have used AI to assist with executive functioning and improving communication accessibility. Together, we will examine how AI can empower individuals with ADHD, autism, and other disabilities in their daily tasks.</p>
LAST-MODIFIED:20260422T163442Z
LOCATION:Zoom
SEQUENCE:0
STATUS:CONFIRMED
SUMMARY:CEDC Coffee Chat: AI and Accessibility
TRANSP:OPAQUE
END:VEVENT
END:VCALENDAR
