BEGIN:VCALENDAR
PRODID:AUCD
VERSION:2.0
METHOD:PUBLISH
BEGIN:VEVENT
DTSTART:20240820T200000Z
DTEND:20240820T210000Z
DTSTAMP:20260420T205446Z
UID:7b2ee61c-a4e8-40e8-a0ad-18fa068a0d8e
CREATED:20260420T205446Z
X-ALT-DESC;FMTTYPE=text/html:<p>This webinar will provide an overview of a participatory project in which a team of Autistic and non-Autistic collaborators created and delivered an adaptable, multi-modal research training curriculum for Autistic Adults to build capacity for inclusion in research, and to build transferrable skills like teamwork, consensus-oriented decision making, and effective communication. The trainees participated in focus groups to set a research agenda on gender and sexuality.</p>
DESCRIPTION:<p>This webinar will provide an overview of a participatory project in which a team of Autistic and non-Autistic collaborators created and delivered an adaptable, multi-modal research training curriculum for Autistic Adults to build capacity for inclusion in research, and to build transferrable skills like teamwork, consensus-oriented decision making, and effective communication. The trainees participated in focus groups to set a research agenda on gender and sexuality.</p>
LAST-MODIFIED:20260420T205446Z
LOCATION:
SEQUENCE:0
STATUS:CONFIRMED
SUMMARY:AIR-P Presents: Research Basics Training: Working Towards Inclusive Autism Research
TRANSP:OPAQUE
END:VEVENT
END:VCALENDAR
